BEGIN:VCALENDAR
VERSION:2.0
PRODID:-//TSV 1891 Breitenworbis e.V. - ECPv6.15.12.2//NONSGML v1.0//EN
CALSCALE:GREGORIAN
METHOD:PUBLISH
X-ORIGINAL-URL:https://tsv-breitenworbis.de
X-WR-CALDESC:Veranstaltungen für TSV 1891 Breitenworbis e.V.
REFRESH-INTERVAL;VALUE=DURATION:PT1H
X-Robots-Tag:noindex
X-PUBLISHED-TTL:PT1H
BEGIN:VTIMEZONE
TZID:Europe/Helsinki
BEGIN:DAYLIGHT
TZOFFSETFROM:+0200
TZOFFSETTO:+0300
TZNAME:EEST
DTSTART:20180325T010000
END:DAYLIGHT
BEGIN:STANDARD
TZOFFSETFROM:+0300
TZOFFSETTO:+0200
TZNAME:EET
DTSTART:20181028T010000
END:STANDARD
BEGIN:DAYLIGHT
TZOFFSETFROM:+0200
TZOFFSETTO:+0300
TZNAME:EEST
DTSTART:20190331T010000
END:DAYLIGHT
BEGIN:STANDARD
TZOFFSETFROM:+0300
TZOFFSETTO:+0200
TZNAME:EET
DTSTART:20191027T010000
END:STANDARD
BEGIN:DAYLIGHT
TZOFFSETFROM:+0200
TZOFFSETTO:+0300
TZNAME:EEST
DTSTART:20200329T010000
END:DAYLIGHT
BEGIN:STANDARD
TZOFFSETFROM:+0300
TZOFFSETTO:+0200
TZNAME:EET
DTSTART:20201025T010000
END:STANDARD
END:VTIMEZONE
BEGIN:VEVENT
DTSTART;TZID=Europe/Helsinki:20191101T200000
DTEND;TZID=Europe/Helsinki:20191101T200000
DTSTAMP:20260421T114229
CREATED:20190901T193943Z
LAST-MODIFIED:20190901T193943Z
UID:1901-1572638400-1572638400@tsv-breitenworbis.de
SUMMARY:Concordia Beuren III - TSV 1891 Breitenworbis III
DESCRIPTION:
URL:https://tsv-breitenworbis.de/event/concordia-beuren-iii-tsv-1891-breitenworbis-iii/
CATEGORIES:Tischtennis
END:VEVENT
BEGIN:VEVENT
DTSTART;TZID=Europe/Helsinki:20191101T200000
DTEND;TZID=Europe/Helsinki:20191101T200000
DTSTAMP:20260421T114229
CREATED:20190901T194140Z
LAST-MODIFIED:20190901T194140Z
UID:1920-1572638400-1572638400@tsv-breitenworbis.de
SUMMARY:Lok Leinefelde II - TSV 1891 Breitenworbis IV
DESCRIPTION:
URL:https://tsv-breitenworbis.de/event/lok-leinefelde-ii-tsv-1891-breitenworbis-iv/
CATEGORIES:Tischtennis
END:VEVENT
BEGIN:VEVENT
DTSTART;TZID=Europe/Helsinki:20191102T150000
DTEND;TZID=Europe/Helsinki:20191102T150000
DTSTAMP:20260421T114229
CREATED:20190901T193624Z
LAST-MODIFIED:20190901T193624Z
UID:1884-1572706800-1572706800@tsv-breitenworbis.de
SUMMARY:Heimspiel TSV 1891 Breitenworbis II - SV Schwarz-Rot Wingerode II
DESCRIPTION:
URL:https://tsv-breitenworbis.de/event/heimspiel-tsv-1891-breitenworbis-ii-sv-schwarz-rot-wingerode-ii/
LOCATION:Sporthalle Breitenworbis
CATEGORIES:Tischtennis
END:VEVENT
BEGIN:VEVENT
DTSTART;TZID=Europe/Helsinki:20191102T150000
DTEND;TZID=Europe/Helsinki:20191102T150000
DTSTAMP:20260421T114229
CREATED:20190901T194414Z
LAST-MODIFIED:20190901T194414Z
UID:1938-1572706800-1572706800@tsv-breitenworbis.de
SUMMARY:Heimspiel TSV 1891 Breitenworbis V - TSV Jahn Geisleden III
DESCRIPTION:
URL:https://tsv-breitenworbis.de/event/heimspiel-tsv-1891-breitenworbis-v-tsv-jahn-geisleden-iii/
LOCATION:Sporthalle Breitenworbis
CATEGORIES:Tischtennis
END:VEVENT
BEGIN:VEVENT
DTSTART;TZID=Europe/Helsinki:20191102T160000
DTEND;TZID=Europe/Helsinki:20191102T160000
DTSTAMP:20260421T114229
CREATED:20190901T191402Z
LAST-MODIFIED:20190901T191402Z
UID:1843-1572710400-1572710400@tsv-breitenworbis.de
SUMMARY:TTSV Herbsleben e.V. - TSV 1891 Breitenworbis
DESCRIPTION:
URL:https://tsv-breitenworbis.de/event/ttsv-herbsleben-e-v-tsv-1891-breitenworbis/
CATEGORIES:Tischtennis
END:VEVENT
BEGIN:VEVENT
DTSTART;TZID=Europe/Helsinki:20191108T200000
DTEND;TZID=Europe/Helsinki:20191108T200000
DTSTAMP:20260421T114229
CREATED:20190901T193626Z
LAST-MODIFIED:20190901T193626Z
UID:1885-1573243200-1573243200@tsv-breitenworbis.de
SUMMARY:TSV Jahn Geisleden - TSV 1891 Breitenworbis II
DESCRIPTION:
URL:https://tsv-breitenworbis.de/event/tsv-jahn-geisleden-tsv-1891-breitenworbis-ii/
CATEGORIES:Tischtennis
END:VEVENT
BEGIN:VEVENT
DTSTART;TZID=Europe/Helsinki:20191108T200000
DTEND;TZID=Europe/Helsinki:20191108T200000
DTSTAMP:20260421T114229
CREATED:20190901T194141Z
LAST-MODIFIED:20190901T194141Z
UID:1921-1573243200-1573243200@tsv-breitenworbis.de
SUMMARY:SG SW Weißenborn-Lüderode - TSV 1891 Breitenworbis IV
DESCRIPTION:
URL:https://tsv-breitenworbis.de/event/sg-sw-weissenborn-luederode-tsv-1891-breitenworbis-iv/
CATEGORIES:Tischtennis
END:VEVENT
BEGIN:VEVENT
DTSTART;TZID=Europe/Helsinki:20191109T170000
DTEND;TZID=Europe/Helsinki:20191109T170000
DTSTAMP:20260421T114229
CREATED:20190901T191402Z
LAST-MODIFIED:20190901T191402Z
UID:1844-1573318800-1573318800@tsv-breitenworbis.de
SUMMARY:MTV 1861 Greußen - TSV 1891 Breitenworbis
DESCRIPTION:
URL:https://tsv-breitenworbis.de/event/mtv-1861-greussen-tsv-1891-breitenworbis/
CATEGORIES:Tischtennis
END:VEVENT
BEGIN:VEVENT
DTSTART;TZID=Europe/Helsinki:20191115T200000
DTEND;TZID=Europe/Helsinki:20191115T200000
DTSTAMP:20260421T114229
CREATED:20190901T193944Z
LAST-MODIFIED:20190901T193944Z
UID:1902-1573848000-1573848000@tsv-breitenworbis.de
SUMMARY:Heimspiel TSV 1891 Breitenworbis III - SV Bernterode III
DESCRIPTION:
URL:https://tsv-breitenworbis.de/event/heimspiel-tsv-1891-breitenworbis-iii-sv-bernterode-iii/
LOCATION:Sporthalle Breitenworbis
CATEGORIES:Tischtennis
END:VEVENT
BEGIN:VEVENT
DTSTART;TZID=Europe/Helsinki:20191115T200000
DTEND;TZID=Europe/Helsinki:20191115T200000
DTSTAMP:20260421T114229
CREATED:20190901T194141Z
LAST-MODIFIED:20190901T194141Z
UID:1922-1573848000-1573848000@tsv-breitenworbis.de
SUMMARY:Heimspiel TSV 1891 Breitenworbis IV - SV Gernrode
DESCRIPTION:
URL:https://tsv-breitenworbis.de/event/heimspiel-tsv-1891-breitenworbis-iv-sv-gernrode/
LOCATION:Sporthalle Breitenworbis
CATEGORIES:Tischtennis
END:VEVENT
BEGIN:VEVENT
DTSTART;TZID=Europe/Helsinki:20191116T140000
DTEND;TZID=Europe/Helsinki:20191116T140000
DTSTAMP:20260421T114229
CREATED:20190901T191402Z
LAST-MODIFIED:20190901T191402Z
UID:1845-1573912800-1573912800@tsv-breitenworbis.de
SUMMARY:TuS Osterburg Weida - TSV 1891 Breitenworbis
DESCRIPTION:
URL:https://tsv-breitenworbis.de/event/tus-osterburg-weida-tsv-1891-breitenworbis/
CATEGORIES:Tischtennis
END:VEVENT
BEGIN:VEVENT
DTSTART;TZID=Europe/Helsinki:20191116T150000
DTEND;TZID=Europe/Helsinki:20191116T150000
DTSTAMP:20260421T114229
CREATED:20190901T194414Z
LAST-MODIFIED:20190901T194414Z
UID:1939-1573916400-1573916400@tsv-breitenworbis.de
SUMMARY:Heimspiel TSV 1891 Breitenworbis V - SG Birkungen II
DESCRIPTION:
URL:https://tsv-breitenworbis.de/event/heimspiel-tsv-1891-breitenworbis-v-sg-birkungen-ii/
LOCATION:Sporthalle Breitenworbis
CATEGORIES:Tischtennis
END:VEVENT
BEGIN:VEVENT
DTSTART;TZID=Europe/Helsinki:20191122T190000
DTEND;TZID=Europe/Helsinki:20191122T190000
DTSTAMP:20260421T114229
CREATED:20190901T194414Z
LAST-MODIFIED:20190901T194414Z
UID:1940-1574449200-1574449200@tsv-breitenworbis.de
SUMMARY:SV Einheit Worbis - TSV 1891 Breitenworbis V
DESCRIPTION:
URL:https://tsv-breitenworbis.de/event/sv-einheit-worbis-tsv-1891-breitenworbis-v/
CATEGORIES:Tischtennis
END:VEVENT
BEGIN:VEVENT
DTSTART;TZID=Europe/Helsinki:20191123T140000
DTEND;TZID=Europe/Helsinki:20191123T140000
DTSTAMP:20260421T114229
CREATED:20190901T191402Z
LAST-MODIFIED:20190901T191402Z
UID:1846-1574517600-1574517600@tsv-breitenworbis.de
SUMMARY:Post SV Zeulenroda II - TSV 1891 Breitenworbis
DESCRIPTION:
URL:https://tsv-breitenworbis.de/event/post-sv-zeulenroda-ii-tsv-1891-breitenworbis/
CATEGORIES:Tischtennis
END:VEVENT
BEGIN:VEVENT
DTSTART;TZID=Europe/Helsinki:20191123T150000
DTEND;TZID=Europe/Helsinki:20191123T150000
DTSTAMP:20260421T114229
CREATED:20190901T193626Z
LAST-MODIFIED:20190901T193626Z
UID:1886-1574521200-1574521200@tsv-breitenworbis.de
SUMMARY:Heimspiel TSV 1891 Breitenworbis II - SV Blau-Weiß Mühlhausen
DESCRIPTION:
URL:https://tsv-breitenworbis.de/event/heimspiel-tsv-1891-breitenworbis-ii-sv-blau-weiss-muehlhausen/
LOCATION:Sporthalle Breitenworbis
CATEGORIES:Tischtennis
END:VEVENT
BEGIN:VEVENT
DTSTART;TZID=Europe/Helsinki:20191123T150000
DTEND;TZID=Europe/Helsinki:20191123T150000
DTSTAMP:20260421T114229
CREATED:20190901T193945Z
LAST-MODIFIED:20190901T193945Z
UID:1903-1574521200-1574521200@tsv-breitenworbis.de
SUMMARY:SG Kreuzebra II - TSV 1891 Breitenworbis III
DESCRIPTION:
URL:https://tsv-breitenworbis.de/event/sg-kreuzebra-ii-tsv-1891-breitenworbis-iii/
CATEGORIES:Tischtennis
END:VEVENT
BEGIN:VEVENT
DTSTART;TZID=Europe/Helsinki:20191129T193000
DTEND;TZID=Europe/Helsinki:20191129T193000
DTSTAMP:20260421T114229
CREATED:20190901T194414Z
LAST-MODIFIED:20190901T194414Z
UID:1941-1575055800-1575055800@tsv-breitenworbis.de
SUMMARY:TSV Büttstedt - TSV 1891 Breitenworbis V
DESCRIPTION:
URL:https://tsv-breitenworbis.de/event/tsv-buettstedt-tsv-1891-breitenworbis-v/
CATEGORIES:Tischtennis
END:VEVENT
BEGIN:VEVENT
DTSTART;TZID=Europe/Helsinki:20191129T200000
DTEND;TZID=Europe/Helsinki:20191129T200000
DTSTAMP:20260421T114229
CREATED:20190901T193945Z
LAST-MODIFIED:20190901T193945Z
UID:1904-1575057600-1575057600@tsv-breitenworbis.de
SUMMARY:Heimspiel TSV 1891 Breitenworbis III - TSV Steinheuterode II
DESCRIPTION:
URL:https://tsv-breitenworbis.de/event/heimspiel-tsv-1891-breitenworbis-iii-tsv-steinheuterode-ii/
LOCATION:Sporthalle Breitenworbis
CATEGORIES:Tischtennis
END:VEVENT
BEGIN:VEVENT
DTSTART;TZID=Europe/Helsinki:20191130T150000
DTEND;TZID=Europe/Helsinki:20191130T150000
DTSTAMP:20260421T114229
CREATED:20190901T193626Z
LAST-MODIFIED:20190901T193626Z
UID:1887-1575126000-1575126000@tsv-breitenworbis.de
SUMMARY:Heimspiel TSV 1891 Breitenworbis II - SV Bernterode
DESCRIPTION:
URL:https://tsv-breitenworbis.de/event/heimspiel-tsv-1891-breitenworbis-ii-sv-bernterode/
LOCATION:Sporthalle Breitenworbis
CATEGORIES:Tischtennis
END:VEVENT
END:VCALENDAR