BEGIN:VCALENDAR
VERSION:2.0
PRODID:-//TSV 1891 Breitenworbis e.V. - ECPv6.15.12.2//NONSGML v1.0//EN
CALSCALE:GREGORIAN
METHOD:PUBLISH
X-ORIGINAL-URL:https://tsv-breitenworbis.de
X-WR-CALDESC:Veranstaltungen für TSV 1891 Breitenworbis e.V.
REFRESH-INTERVAL;VALUE=DURATION:PT1H
X-Robots-Tag:noindex
X-PUBLISHED-TTL:PT1H
BEGIN:VTIMEZONE
TZID:Europe/Helsinki
BEGIN:DAYLIGHT
TZOFFSETFROM:+0200
TZOFFSETTO:+0300
TZNAME:EEST
DTSTART:20180325T010000
END:DAYLIGHT
BEGIN:STANDARD
TZOFFSETFROM:+0300
TZOFFSETTO:+0200
TZNAME:EET
DTSTART:20181028T010000
END:STANDARD
BEGIN:DAYLIGHT
TZOFFSETFROM:+0200
TZOFFSETTO:+0300
TZNAME:EEST
DTSTART:20190331T010000
END:DAYLIGHT
BEGIN:STANDARD
TZOFFSETFROM:+0300
TZOFFSETTO:+0200
TZNAME:EET
DTSTART:20191027T010000
END:STANDARD
BEGIN:DAYLIGHT
TZOFFSETFROM:+0200
TZOFFSETTO:+0300
TZNAME:EEST
DTSTART:20200329T010000
END:DAYLIGHT
BEGIN:STANDARD
TZOFFSETFROM:+0300
TZOFFSETTO:+0200
TZNAME:EET
DTSTART:20201025T010000
END:STANDARD
END:VTIMEZONE
BEGIN:VEVENT
DTSTART;TZID=Europe/Helsinki:20191011T200000
DTEND;TZID=Europe/Helsinki:20191011T200000
DTSTAMP:20260421T154708
CREATED:20190901T194412Z
LAST-MODIFIED:20190901T194412Z
UID:1936-1570824000-1570824000@tsv-breitenworbis.de
SUMMARY:Heimspiel TSV 1891 Breitenworbis V - SV Großbartloff
DESCRIPTION:
URL:https://tsv-breitenworbis.de/event/heimspiel-tsv-1891-breitenworbis-v-sv-grossbartloff/
LOCATION:Sporthalle Breitenworbis
CATEGORIES:Tischtennis
END:VEVENT
BEGIN:VEVENT
DTSTART;TZID=Europe/Helsinki:20191018T200000
DTEND;TZID=Europe/Helsinki:20191018T200000
DTSTAMP:20260421T154708
CREATED:20190901T193943Z
LAST-MODIFIED:20190901T193943Z
UID:1900-1571428800-1571428800@tsv-breitenworbis.de
SUMMARY:Heimspiel TSV 1891 Breitenworbis III - SV Schwarz-Rot Wingerode III
DESCRIPTION:
URL:https://tsv-breitenworbis.de/event/heimspiel-tsv-1891-breitenworbis-iii-sv-schwarz-rot-wingerode-iii/
LOCATION:Sporthalle Breitenworbis
CATEGORIES:Tischtennis
END:VEVENT
BEGIN:VEVENT
DTSTART;TZID=Europe/Helsinki:20191025T193000
DTEND;TZID=Europe/Helsinki:20191025T193000
DTSTAMP:20260421T154708
CREATED:20190901T193623Z
LAST-MODIFIED:20190901T193623Z
UID:1883-1572031800-1572031800@tsv-breitenworbis.de
SUMMARY:TTV Dingelstädt II - TSV 1891 Breitenworbis II
DESCRIPTION:
URL:https://tsv-breitenworbis.de/event/ttv-dingelstaedt-ii-tsv-1891-breitenworbis-ii/
CATEGORIES:Tischtennis
END:VEVENT
BEGIN:VEVENT
DTSTART;TZID=Europe/Helsinki:20191025T200000
DTEND;TZID=Europe/Helsinki:20191025T200000
DTSTAMP:20260421T154708
CREATED:20190901T194140Z
LAST-MODIFIED:20190901T194140Z
UID:1919-1572033600-1572033600@tsv-breitenworbis.de
SUMMARY:Heimspiel TSV 1891 Breitenworbis IV - SV Großbartloff
DESCRIPTION:
URL:https://tsv-breitenworbis.de/event/heimspiel-tsv-1891-breitenworbis-iv-sv-grossbartloff/
LOCATION:Sporthalle Breitenworbis
CATEGORIES:Tischtennis
END:VEVENT
BEGIN:VEVENT
DTSTART;TZID=Europe/Helsinki:20191025T200000
DTEND;TZID=Europe/Helsinki:20191025T200000
DTSTAMP:20260421T154708
CREATED:20190901T194412Z
LAST-MODIFIED:20190901T194412Z
UID:1937-1572033600-1572033600@tsv-breitenworbis.de
SUMMARY:SV Gernrode - TSV 1891 Breitenworbis V
DESCRIPTION:
URL:https://tsv-breitenworbis.de/event/sv-gernrode-tsv-1891-breitenworbis-v/
CATEGORIES:Tischtennis
END:VEVENT
BEGIN:VEVENT
DTSTART;TZID=Europe/Helsinki:20191026T160000
DTEND;TZID=Europe/Helsinki:20191026T160000
DTSTAMP:20260421T154708
CREATED:20190901T191402Z
LAST-MODIFIED:20190901T191402Z
UID:1842-1572105600-1572105600@tsv-breitenworbis.de
SUMMARY:Heimspiel TSV 1891 Breitenworbis - TTC Oberbösa e.V.
DESCRIPTION:
URL:https://tsv-breitenworbis.de/event/heimspiel-tsv-1891-breitenworbis-ttc-oberboesa-e-v/
LOCATION:Sporthalle Breitenworbis
CATEGORIES:Tischtennis
END:VEVENT
END:VCALENDAR