BEGIN:VCALENDAR
VERSION:2.0
PRODID:-//TSV 1891 Breitenworbis e.V. - ECPv6.15.12.2//NONSGML v1.0//EN
CALSCALE:GREGORIAN
METHOD:PUBLISH
X-WR-CALNAME:TSV 1891 Breitenworbis e.V.
X-ORIGINAL-URL:https://tsv-breitenworbis.de
X-WR-CALDESC:Veranstaltungen für TSV 1891 Breitenworbis e.V.
REFRESH-INTERVAL;VALUE=DURATION:PT1H
X-Robots-Tag:noindex
X-PUBLISHED-TTL:PT1H
BEGIN:VTIMEZONE
TZID:UTC
BEGIN:STANDARD
TZOFFSETFROM:+0000
TZOFFSETTO:+0000
TZNAME:UTC
DTSTART:20170101T000000
END:STANDARD
END:VTIMEZONE
BEGIN:VEVENT
DTSTART;TZID=UTC:20181020T090000
DTEND;TZID=UTC:20181020T110000
DTSTAMP:20260422T112203
CREATED:20180818T113533Z
LAST-MODIFIED:20180818T113609Z
UID:1395-1540026000-1540033200@tsv-breitenworbis.de
SUMMARY:Heimspiel Bezirksliga Jugend gegen TTZ Sponeta Erfurt
DESCRIPTION:TSV 1891 Breitenworbis 1. Jungen – TTZ Sponeta Erfurt
URL:https://tsv-breitenworbis.de/event/heimspiel-bezirksliga-jugend-gegen-ttz-sponeta-erfurt/
LOCATION:Sporthalle Breitenworbis
CATEGORIES:Tischtennis
END:VEVENT
BEGIN:VEVENT
DTSTART;TZID=UTC:20181020T160000
DTEND;TZID=UTC:20181020T180000
DTSTAMP:20260422T112203
CREATED:20180818T113043Z
LAST-MODIFIED:20180818T113043Z
UID:1391-1540051200-1540058400@tsv-breitenworbis.de
SUMMARY:1. Heimspiel in der Verbandsliga Ost gegen SV SCHOTT Jena IV
DESCRIPTION:TSV 1891 Breitenworbis – SV SCHOTT Jena IV
URL:https://tsv-breitenworbis.de/event/1-heimspiel-in-der-verbandsliga/
LOCATION:Sporthalle Breitenworbis
CATEGORIES:Tischtennis
END:VEVENT
END:VCALENDAR