BEGIN:VCALENDAR
VERSION:2.0
PRODID:-//TSV 1891 Breitenworbis e.V. - ECPv6.15.12.2//NONSGML v1.0//EN
CALSCALE:GREGORIAN
METHOD:PUBLISH
X-WR-CALNAME:TSV 1891 Breitenworbis e.V.
X-ORIGINAL-URL:https://tsv-breitenworbis.de
X-WR-CALDESC:Veranstaltungen für TSV 1891 Breitenworbis e.V.
REFRESH-INTERVAL;VALUE=DURATION:PT1H
X-Robots-Tag:noindex
X-PUBLISHED-TTL:PT1H
BEGIN:VTIMEZONE
TZID:UTC
BEGIN:STANDARD
TZOFFSETFROM:+0000
TZOFFSETTO:+0000
TZNAME:UTC
DTSTART:20150101T000000
END:STANDARD
END:VTIMEZONE
BEGIN:VEVENT
DTSTART;TZID=UTC:20160923T193000
DTEND;TZID=UTC:20160923T210000
DTSTAMP:20260424T083555
CREATED:20160917T162718Z
LAST-MODIFIED:20160917T165125Z
UID:481-1474659000-1474664400@tsv-breitenworbis.de
SUMMARY:TSV Jahresversammlung
DESCRIPTION:Alle Vereinsmitglieder sind herzlich eingeladen. Die Abteilungen werden über die Ereignisse des letzten Jahres berichten.
URL:https://tsv-breitenworbis.de/event/tsv-jahresversammlung/
LOCATION:Sporthaus Breitenworbis
CATEGORIES:TSV
END:VEVENT
BEGIN:VEVENT
DTSTART;TZID=UTC:20160928T193000
DTEND;TZID=UTC:20160928T210000
DTSTAMP:20260424T083555
CREATED:20160917T163214Z
LAST-MODIFIED:20160917T164905Z
UID:486-1475091000-1475096400@tsv-breitenworbis.de
SUMMARY:Tischtennis Trainersitzung
DESCRIPTION:Thema: Trainingszeiten und -gruppen
URL:https://tsv-breitenworbis.de/event/tt-trainersitzung/
LOCATION:Sporthalle Breitenworbis
CATEGORIES:Tischtennis
END:VEVENT
END:VCALENDAR