BEGIN:VCALENDAR
VERSION:2.0
PRODID:-//TSV 1891 Breitenworbis e.V. - ECPv6.15.12.2//NONSGML v1.0//EN
CALSCALE:GREGORIAN
METHOD:PUBLISH
X-WR-CALNAME:TSV 1891 Breitenworbis e.V.
X-ORIGINAL-URL:https://tsv-breitenworbis.de
X-WR-CALDESC:Veranstaltungen für TSV 1891 Breitenworbis e.V.
REFRESH-INTERVAL;VALUE=DURATION:PT1H
X-Robots-Tag:noindex
X-PUBLISHED-TTL:PT1H
BEGIN:VTIMEZONE
TZID:Europe/Helsinki
BEGIN:DAYLIGHT
TZOFFSETFROM:+0200
TZOFFSETTO:+0300
TZNAME:EEST
DTSTART:20190331T010000
END:DAYLIGHT
BEGIN:STANDARD
TZOFFSETFROM:+0300
TZOFFSETTO:+0200
TZNAME:EET
DTSTART:20191027T010000
END:STANDARD
BEGIN:DAYLIGHT
TZOFFSETFROM:+0200
TZOFFSETTO:+0300
TZNAME:EEST
DTSTART:20200329T010000
END:DAYLIGHT
BEGIN:STANDARD
TZOFFSETFROM:+0300
TZOFFSETTO:+0200
TZNAME:EET
DTSTART:20201025T010000
END:STANDARD
BEGIN:DAYLIGHT
TZOFFSETFROM:+0200
TZOFFSETTO:+0300
TZNAME:EEST
DTSTART:20210328T010000
END:DAYLIGHT
BEGIN:STANDARD
TZOFFSETFROM:+0300
TZOFFSETTO:+0200
TZNAME:EET
DTSTART:20211031T010000
END:STANDARD
END:VTIMEZONE
BEGIN:VEVENT
DTSTART;TZID=Europe/Helsinki:20200313T200000
DTEND;TZID=Europe/Helsinki:20200313T200000
DTSTAMP:20260421T061055
CREATED:20190901T193946Z
LAST-MODIFIED:20190901T193946Z
UID:1911-1584129600-1584129600@tsv-breitenworbis.de
SUMMARY:Heimspiel TSV 1891 Breitenworbis III - Concordia Beuren III
DESCRIPTION:
URL:https://tsv-breitenworbis.de/event/heimspiel-tsv-1891-breitenworbis-iii-concordia-beuren-iii/
LOCATION:Sporthalle Breitenworbis
CATEGORIES:Tischtennis
END:VEVENT
BEGIN:VEVENT
DTSTART;TZID=Europe/Helsinki:20200313T200000
DTEND;TZID=Europe/Helsinki:20200313T200000
DTSTAMP:20260421T061055
CREATED:20190901T194142Z
LAST-MODIFIED:20190901T194142Z
UID:1929-1584129600-1584129600@tsv-breitenworbis.de
SUMMARY:Heimspiel TSV 1891 Breitenworbis IV - SG SW Weißenborn-Lüderode
DESCRIPTION:
URL:https://tsv-breitenworbis.de/event/heimspiel-tsv-1891-breitenworbis-iv-sg-sw-weissenborn-luederode/
LOCATION:Sporthalle Breitenworbis
CATEGORIES:Tischtennis
END:VEVENT
END:VCALENDAR