BEGIN:VCALENDAR
VERSION:2.0
PRODID:-//TSV 1891 Breitenworbis e.V. - ECPv6.15.12.2//NONSGML v1.0//EN
CALSCALE:GREGORIAN
METHOD:PUBLISH
X-WR-CALNAME:TSV 1891 Breitenworbis e.V.
X-ORIGINAL-URL:https://tsv-breitenworbis.de
X-WR-CALDESC:Veranstaltungen für TSV 1891 Breitenworbis e.V.
REFRESH-INTERVAL;VALUE=DURATION:PT1H
X-Robots-Tag:noindex
X-PUBLISHED-TTL:PT1H
BEGIN:VTIMEZONE
TZID:Europe/Helsinki
BEGIN:DAYLIGHT
TZOFFSETFROM:+0200
TZOFFSETTO:+0300
TZNAME:EEST
DTSTART:20180325T010000
END:DAYLIGHT
BEGIN:STANDARD
TZOFFSETFROM:+0300
TZOFFSETTO:+0200
TZNAME:EET
DTSTART:20181028T010000
END:STANDARD
BEGIN:DAYLIGHT
TZOFFSETFROM:+0200
TZOFFSETTO:+0300
TZNAME:EEST
DTSTART:20190331T010000
END:DAYLIGHT
BEGIN:STANDARD
TZOFFSETFROM:+0300
TZOFFSETTO:+0200
TZNAME:EET
DTSTART:20191027T010000
END:STANDARD
BEGIN:DAYLIGHT
TZOFFSETFROM:+0200
TZOFFSETTO:+0300
TZNAME:EEST
DTSTART:20200329T010000
END:DAYLIGHT
BEGIN:STANDARD
TZOFFSETFROM:+0300
TZOFFSETTO:+0200
TZNAME:EET
DTSTART:20201025T010000
END:STANDARD
END:VTIMEZONE
BEGIN:VEVENT
DTSTART;TZID=Europe/Helsinki:20191101T200000
DTEND;TZID=Europe/Helsinki:20191101T200000
DTSTAMP:20260421T132156
CREATED:20190901T193943Z
LAST-MODIFIED:20190901T193943Z
UID:1901-1572638400-1572638400@tsv-breitenworbis.de
SUMMARY:Concordia Beuren III - TSV 1891 Breitenworbis III
DESCRIPTION:
URL:https://tsv-breitenworbis.de/event/concordia-beuren-iii-tsv-1891-breitenworbis-iii/
CATEGORIES:Tischtennis
END:VEVENT
BEGIN:VEVENT
DTSTART;TZID=Europe/Helsinki:20191101T200000
DTEND;TZID=Europe/Helsinki:20191101T200000
DTSTAMP:20260421T132156
CREATED:20190901T194140Z
LAST-MODIFIED:20190901T194140Z
UID:1920-1572638400-1572638400@tsv-breitenworbis.de
SUMMARY:Lok Leinefelde II - TSV 1891 Breitenworbis IV
DESCRIPTION:
URL:https://tsv-breitenworbis.de/event/lok-leinefelde-ii-tsv-1891-breitenworbis-iv/
CATEGORIES:Tischtennis
END:VEVENT
END:VCALENDAR