BEGIN:VCALENDAR
VERSION:2.0
PRODID:-//TSV 1891 Breitenworbis e.V. - ECPv6.15.12.2//NONSGML v1.0//EN
CALSCALE:GREGORIAN
METHOD:PUBLISH
X-WR-CALNAME:TSV 1891 Breitenworbis e.V.
X-ORIGINAL-URL:https://tsv-breitenworbis.de
X-WR-CALDESC:Veranstaltungen für TSV 1891 Breitenworbis e.V.
REFRESH-INTERVAL;VALUE=DURATION:PT1H
X-Robots-Tag:noindex
X-PUBLISHED-TTL:PT1H
BEGIN:VTIMEZONE
TZID:UTC
BEGIN:STANDARD
TZOFFSETFROM:+0000
TZOFFSETTO:+0000
TZNAME:UTC
DTSTART:20170101T000000
END:STANDARD
END:VTIMEZONE
BEGIN:VEVENT
DTSTART;TZID=UTC:20180901T140000
DTEND;TZID=UTC:20180901T160000
DTSTAMP:20260422T144927
CREATED:20180818T113252Z
LAST-MODIFIED:20180818T113252Z
UID:1393-1535810400-1535817600@tsv-breitenworbis.de
SUMMARY:Heimspiel 3. Bezirksliga
DESCRIPTION:TSV 1891 Breitenworbis II – Concordia Beuren
URL:https://tsv-breitenworbis.de/event/heimspiel-3-bezirksliga-3/
LOCATION:Sporthalle Breitenworbis
CATEGORIES:Tischtennis
END:VEVENT
END:VCALENDAR