BEGIN:VCALENDAR
VERSION:2.0
PRODID:-//TSV 1891 Breitenworbis e.V. - ECPv6.15.12.2//NONSGML v1.0//EN
CALSCALE:GREGORIAN
METHOD:PUBLISH
X-WR-CALNAME:TSV 1891 Breitenworbis e.V.
X-ORIGINAL-URL:https://tsv-breitenworbis.de
X-WR-CALDESC:Veranstaltungen für TSV 1891 Breitenworbis e.V.
REFRESH-INTERVAL;VALUE=DURATION:PT1H
X-Robots-Tag:noindex
X-PUBLISHED-TTL:PT1H
BEGIN:VTIMEZONE
TZID:UTC
BEGIN:STANDARD
TZOFFSETFROM:+0000
TZOFFSETTO:+0000
TZNAME:UTC
DTSTART:20170101T000000
END:STANDARD
END:VTIMEZONE
BEGIN:VEVENT
DTSTART;TZID=UTC:20180715T133000
DTEND;TZID=UTC:20180715T143000
DTSTAMP:20260422T184042
CREATED:20180708T120305Z
LAST-MODIFIED:20180708T120529Z
UID:1373-1531661400-1531665000@tsv-breitenworbis.de
SUMMARY:Festumzug 2018
DESCRIPTION:Im Rahmen des alljährlichen Breitenworbiser Volksfestes nehmen auch die TSV-Abteilungen Sonntag\, den 15. Juli 2018 ab 13:30 Uhr am Festumzug teil.
URL:https://tsv-breitenworbis.de/event/festumzug-2018/
END:VEVENT
END:VCALENDAR