BEGIN:VCALENDAR
VERSION:2.0
PRODID:-//TSV 1891 Breitenworbis e.V. - ECPv6.15.12.2//NONSGML v1.0//EN
CALSCALE:GREGORIAN
METHOD:PUBLISH
X-ORIGINAL-URL:https://tsv-breitenworbis.de
X-WR-CALDESC:Veranstaltungen für TSV 1891 Breitenworbis e.V.
REFRESH-INTERVAL;VALUE=DURATION:PT1H
X-Robots-Tag:noindex
X-PUBLISHED-TTL:PT1H
BEGIN:VTIMEZONE
TZID:UTC
BEGIN:STANDARD
TZOFFSETFROM:+0000
TZOFFSETTO:+0000
TZNAME:UTC
DTSTART:20160101T000000
END:STANDARD
END:VTIMEZONE
BEGIN:VEVENT
DTSTART;TZID=UTC:20171229T150000
DTEND;TZID=UTC:20171229T235500
DTSTAMP:20260423T075850
CREATED:20171208T055705Z
LAST-MODIFIED:20171219T140026Z
UID:1050-1514559600-1514591700@tsv-breitenworbis.de
SUMMARY:Hallenmasters 2017
DESCRIPTION:
URL:https://tsv-breitenworbis.de/event/hallenmasters-2017/
LOCATION:Sporthalle Breitenworbis
CATEGORIES:TSV
ATTACH;FMTTYPE=image/jpeg:https://tsv-breitenworbis.de/wp-content/uploads/2017/11/889E7A7A-537C-4E8D-A196-3931ECA5326C.jpeg
END:VEVENT
END:VCALENDAR