BEGIN:VCALENDAR
VERSION:2.0
PRODID:-//TSV 1891 Breitenworbis e.V. - ECPv6.15.12.2//NONSGML v1.0//EN
CALSCALE:GREGORIAN
METHOD:PUBLISH
X-ORIGINAL-URL:https://tsv-breitenworbis.de
X-WR-CALDESC:Veranstaltungen für TSV 1891 Breitenworbis e.V.
REFRESH-INTERVAL;VALUE=DURATION:PT1H
X-Robots-Tag:noindex
X-PUBLISHED-TTL:PT1H
BEGIN:VTIMEZONE
TZID:UTC
BEGIN:STANDARD
TZOFFSETFROM:+0000
TZOFFSETTO:+0000
TZNAME:UTC
DTSTART:20160101T000000
END:STANDARD
END:VTIMEZONE
BEGIN:VEVENT
DTSTART;TZID=UTC:20171006T200000
DTEND;TZID=UTC:20171006T200000
DTSTAMP:20260423T111843
CREATED:20170912T085414Z
LAST-MODIFIED:20170912T085952Z
UID:938-1507320000-1507320000@tsv-breitenworbis.de
SUMMARY:Jahreshauptversammlung Fußball
DESCRIPTION:Sehr geehrte Mitglieder\,\nwir laden herzlich zur Jahreshauptversammlung der Abteilung Fußball ein. \n\n\n\nTAGESORDNUNG: \n\nBegrüßung 1. Vorsitzender\nAuswertung Mannschaften: Jahresrückblick\, Planungen\, Zielsetzungen der Trainer\nKassenbericht / Kassenprüfung\nEntlastung des Vorstandes\nVorschau 2018\nAbhandlung eingegangener Anträge / Wünsche\nSonstiges / Diskussion\n\nJedes Mitglied hat das Recht\, Anträge / Wünsche einzubringen. Anträge müssen bis zum 22.09.2017 schriftlich beim 1. Vorsitzenden eingereicht werden. \nWir bitten um zahlreiches Erscheinen. \n\n\n\nMit sportlichen Grüßen\nTSV 1891 Breitenworbis e. V. Abteilung Fußball \nDer Vorstand\nVorstand: 1. Vorsitzender (Eberhard Hauf)\, 2. Vorsitzender (Christoph Kaufmann)\, Kassenwart (Wolfgang Heddergott) \nEinladung Jahreshauptversammlung
URL:https://tsv-breitenworbis.de/event/jahreshauptversammlung-fussball/
LOCATION:Sportcasino Breitenworbis
CATEGORIES:Fußball
END:VEVENT
END:VCALENDAR