BEGIN:VCALENDAR
VERSION:2.0
PRODID:-//TSV 1891 Breitenworbis e.V. - ECPv6.15.12.2//NONSGML v1.0//EN
CALSCALE:GREGORIAN
METHOD:PUBLISH
X-WR-CALNAME:TSV 1891 Breitenworbis e.V.
X-ORIGINAL-URL:https://tsv-breitenworbis.de
X-WR-CALDESC:Veranstaltungen für TSV 1891 Breitenworbis e.V.
REFRESH-INTERVAL;VALUE=DURATION:PT1H
X-Robots-Tag:noindex
X-PUBLISHED-TTL:PT1H
BEGIN:VTIMEZONE
TZID:UTC
BEGIN:STANDARD
TZOFFSETFROM:+0000
TZOFFSETTO:+0000
TZNAME:UTC
DTSTART:20160101T000000
END:STANDARD
END:VTIMEZONE
BEGIN:VEVENT
DTSTART;VALUE=DATE:20170707
DTEND;VALUE=DATE:20170711
DTSTAMP:20260423T163931
CREATED:20170621T195956Z
LAST-MODIFIED:20170621T200301Z
UID:855-1499385600-1499731199@tsv-breitenworbis.de
SUMMARY:Volksfest
DESCRIPTION:Der TSV 1891 Breitenworbis\, mit all seinen Abteilungen des Sports\, heißt Sie herzlich Willkommen. \nWir freuen uns auf Sie!
URL:https://tsv-breitenworbis.de/event/volksfest/
LOCATION:Sportplatz Breitenworbis
CATEGORIES:TSV
ATTACH;FMTTYPE=image/jpeg:https://tsv-breitenworbis.de/wp-content/uploads/2017/06/image.jpeg
END:VEVENT
END:VCALENDAR